BEGIN:VCALENDAR
VERSION:2.0
PRODID:-//InfraVak - ECPv6.15.18//NONSGML v1.0//EN
CALSCALE:GREGORIAN
METHOD:PUBLISH
X-WR-CALNAME:InfraVak
X-ORIGINAL-URL:https://infravak.nl
X-WR-CALDESC:Evenementen voor InfraVak
REFRESH-INTERVAL;VALUE=DURATION:PT1H
X-Robots-Tag:noindex
X-PUBLISHED-TTL:PT1H
BEGIN:VTIMEZONE
TZID:UTC
BEGIN:STANDARD
TZOFFSETFROM:+0000
TZOFFSETTO:+0000
TZNAME:UTC
DTSTART:20240101T000000
END:STANDARD
END:VTIMEZONE
BEGIN:VEVENT
DTSTART;TZID=UTC:20260211T130000
DTEND;TZID=UTC:20260211T210000
DTSTAMP:20260422T085342
CREATED:20260204T150429Z
LAST-MODIFIED:20260204T150440Z
UID:1447-1770814800-1770843600@infravak.nl
SUMMARY:Infra relatiedagen
DESCRIPTION:Tijdens de Infra Relatiedagen zijn wij aanwezig op de beurs! Kom langs en ontmoet ons en onze lidbedrijven. Zien we je daar?
URL:https://infravak.nl/agenda/infra-relatiedagen-4/
LOCATION:Evenementenhal Hardenberg\, Energieweg 2\, Hardenberg\, 7772 TV
END:VEVENT
BEGIN:VEVENT
DTSTART;TZID=UTC:20260210T130000
DTEND;TZID=UTC:20260210T210000
DTSTAMP:20260422T085342
CREATED:20260204T150519Z
LAST-MODIFIED:20260204T150519Z
UID:1449-1770728400-1770757200@infravak.nl
SUMMARY:Infra Relatiedagen
DESCRIPTION:Tijdens de Infra Relatiedagen zijn wij aanwezig op de beurs! Kom langs en ontmoet ons en onze lidbedrijven. Zien we je daar?
URL:https://infravak.nl/agenda/infra-relatiedagen-5/
LOCATION:Evenementenhal Hardenberg\, Energieweg 2\, Hardenberg\, 7772 TV
END:VEVENT
BEGIN:VEVENT
DTSTART;TZID=UTC:20260205T130000
DTEND;TZID=UTC:20260205T170000
DTSTAMP:20260422T085342
CREATED:20260204T150224Z
LAST-MODIFIED:20260204T150224Z
UID:1445-1770296400-1770310800@infravak.nl
SUMMARY:Beroepenfeest Hoogeveen On Stage
DESCRIPTION:Bij Beroepenfeest Hoogeveen On Stage zijn wij samen met Schagen Infra aanwezig om leerlingen kennis te laten maken met de wereld van de grond-\, weg- en waterbouw. Ze kunnen in gesprek gaan met beroepsbeoefenaren en zich aanmelden voor de Doe-dag\, waar ze écht praktisch aan de slag gaan en ervaren hoe het is om in deze sector te werken.
URL:https://infravak.nl/agenda/beroepenfeest-hoogeveen-on-stage/
END:VEVENT
BEGIN:VEVENT
DTSTART;TZID=UTC:20260205T090000
DTEND;TZID=UTC:20260205T113000
DTSTAMP:20260422T085342
CREATED:20260204T145607Z
LAST-MODIFIED:20260204T145607Z
UID:1443-1770282000-1770291000@infravak.nl
SUMMARY:Excursie Etty Hillesum
DESCRIPTION:Tijdens deze dag ontvangen wij leerlingen van Etty Hillesum voor een excursie in onze praktijkhal. Extra bijzonder dit keer is de inzet van het Green Mobile Education Centre van Zone College Enschede. Naast de reguliere opdrachten in de hal kunnen leerlingen hier ook aan de slag met interactieve simulatoren en spelletjes. Een leerzame én super gave ervaring!
URL:https://infravak.nl/agenda/excursie-etty-hillesum/
LOCATION:InfraVak\, Produktieweg 13\, 7451 PR Holten
END:VEVENT
BEGIN:VEVENT
DTSTART;TZID=UTC:20260129T184500
DTEND;TZID=UTC:20260129T203000
DTSTAMP:20260422T085342
CREATED:20231129T103335Z
LAST-MODIFIED:20251125T134959Z
UID:540-1769712300-1769718600@infravak.nl
SUMMARY:Voorlichtingsavond Canisius College en Pius X te Almelo
DESCRIPTION:Op deze avond zijn we aanwezig op de voorlichtingsavond van het Canisius en Pius X in Almelo. Ben jij derdejaars en moet je over een jaar een vervolgopleiding kiezen? Lijkt de grond\,- weg- en waterbouw jou wel wat? We vertellen je graag alles over de verschillende opleidingen in de infra. Tot dan!
URL:https://infravak.nl/agenda/voorlichtingsavond-canisius-college-tubbergen/
LOCATION:Canisius Almelo\, Slot 31\, Almelo\, 7608 ND
END:VEVENT
BEGIN:VEVENT
DTSTART;TZID=UTC:20260124T100000
DTEND;TZID=UTC:20260124T140000
DTSTAMP:20260422T085342
CREATED:20250205T121402Z
LAST-MODIFIED:20251210T143542Z
UID:1192-1769248800-1769263200@infravak.nl
SUMMARY:Open dag Aventus Apeldoorn
DESCRIPTION:Tijdens de open dag van Aventus Apeldoorn vertellen we jou graag alles over de grond-\, weg- en waterbouw en de diverse bbl-opleidingen die wij bieden.\nSta je voor een studiekeuze en wil je graag buiten met je handen werken? We zien jou graag daar.
URL:https://infravak.nl/agenda/open-dag-deltion-college-7/
LOCATION:Aventus Apeldoorn\, Laan van de Mensenrechten 500\, 7332 AT Apeldoorn\, Apeldoorn
END:VEVENT
BEGIN:VEVENT
DTSTART;TZID=UTC:20260117T100000
DTEND;TZID=UTC:20260117T140000
DTSTAMP:20260422T085342
CREATED:20251205T140804Z
LAST-MODIFIED:20251205T140804Z
UID:1424-1768644000-1768658400@infravak.nl
SUMMARY:Open dag Deltion College
DESCRIPTION:Sta jij voor een studiekeuze en wil je graag werken én leren tegelijk? Kom dan naar de open dag van het Deltion College! We vertellen je alles over de infra en de verschillende opleidingsmogelijkheden. Tot dan!
URL:https://infravak.nl/agenda/open-dag-deltion-college-9/
END:VEVENT
BEGIN:VEVENT
DTSTART;TZID=UTC:20260108T143000
DTEND;TZID=UTC:20260108T203000
DTSTAMP:20260422T085342
CREATED:20231129T095337Z
LAST-MODIFIED:20251020T093441Z
UID:537-1767882600-1767904200@infravak.nl
SUMMARY:Scholenmarkt regio Barneveld
DESCRIPTION:Deze dag vertellen wij jou graag alles over de diverse opleidingen in de grond-\, weg- en waterbouw. Wil jij leren én werken tegelijk? En ben je graag in de buitenlucht? Wellicht is de infra iets voor jou! Zien we jou daar?
URL:https://infravak.nl/agenda/scholenmarkt-regio-barneveld/
LOCATION:Johannes Fontanus College\, Wethouder Rebellaan 135\, Barneveld\, 3771 KA
END:VEVENT
BEGIN:VEVENT
DTSTART;TZID=UTC:20251211T160000
DTEND;TZID=UTC:20251211T190000
DTSTAMP:20260422T085342
CREATED:20241118T145608Z
LAST-MODIFIED:20251106T073512Z
UID:1072-1765468800-1765479600@infravak.nl
SUMMARY:Open dag InfraVak
DESCRIPTION:Wil jij graag meer weten over bbl-opleidingen in de grond-\, weg- en waterbouw? En wil je graag een kijkje nemen in ons opleidingscentrum?\nWe nodigen jou graag uit tijdens onze open dag in Holten. Onze deuren zijn tussen 16:00 uur en 19:00 uur geopend. De koffie staat klaar!
URL:https://infravak.nl/agenda/open-dag-infravak-2/
LOCATION:InfraVak\, Produktieweg 13\, 7451 PR Holten
END:VEVENT
BEGIN:VEVENT
DTSTART;TZID=UTC:20251209T120000
DTEND;TZID=UTC:20251209T123000
DTSTAMP:20260422T085342
CREATED:20251205T134734Z
LAST-MODIFIED:20251205T134734Z
UID:1420-1765281600-1765283400@infravak.nl
SUMMARY:Voorlichting Vechtdal College Ommen
DESCRIPTION:Aan de leerlingen van BWI en PIE geven wij een voorlichting over de infra en de verschillende opleidingsmogelijkheden binnen dit vakgebied.
URL:https://infravak.nl/agenda/voorlichting-vechtdal-college-ommen/
LOCATION:Vechtdal College Ommen\, Balkerweg 2\, Ommen\, 7731 RZ
END:VEVENT
BEGIN:VEVENT
DTSTART;TZID=UTC:20251122T100000
DTEND;TZID=UTC:20251122T140000
DTSTAMP:20260422T085342
CREATED:20250304T105510Z
LAST-MODIFIED:20251105T110340Z
UID:1271-1763805600-1763820000@infravak.nl
SUMMARY:Open dag Deltion College Zwolle
DESCRIPTION:Heb jij interesse in de grond-\, weg- en waterbouw? En wil jij werken én leren tegelijk? Bezoek ons dan tijdens de Open Dag van Deltion College in Zwolle. Tot dan!
URL:https://infravak.nl/agenda/1271/
LOCATION:Deltion\, Mozartlaan 15\, Zwolle\, 8031 AA
END:VEVENT
BEGIN:VEVENT
DTSTART;TZID=UTC:20251122T090000
DTEND;TZID=UTC:20251122T150000
DTSTAMP:20260422T085342
CREATED:20241216T105153Z
LAST-MODIFIED:20251110T145128Z
UID:1096-1763802000-1763823600@infravak.nl
SUMMARY:Open Dag SOMA College Harderwijk
DESCRIPTION:Heb jij interesse in de grond-\, weg- en waterbouw? En wil jij werken én leren tegelijk? Bezoek ons dan tijdens de Open Dag SOMA College Harderwijk. Tot dan!
URL:https://infravak.nl/agenda/open-dag-firda/
LOCATION:SOMA College\, Ceintuurbaan 2\, 3847 LG Harderwijk\, Harderwijk
END:VEVENT
BEGIN:VEVENT
DTSTART;TZID=UTC:20251121T160000
DTEND;TZID=UTC:20251121T203000
DTSTAMP:20260422T085342
CREATED:20250502T110035Z
LAST-MODIFIED:20250821T080354Z
UID:1316-1763740800-1763757000@infravak.nl
SUMMARY:Open avond Deltion College
DESCRIPTION:Sta jij voor een studiekeuze\, of ben je je alvast aan het oriënteren op een vervolgopleiding? Tijdens de open avond vertellen we je graag alles over werken in de infra. Lekker buiten aan de slag én geld verdienen? Bij ons kan het!
URL:https://infravak.nl/agenda/open-avond-deltion-college-zwolle/
LOCATION:Deltion\, Mozartlaan 15\, Zwolle\, 8031 AA
END:VEVENT
BEGIN:VEVENT
DTSTART;TZID=UTC:20251112T160000
DTEND;TZID=UTC:20251112T200000
DTSTAMP:20260422T085342
CREATED:20241216T104414Z
LAST-MODIFIED:20251105T123330Z
UID:1094-1762963200-1762977600@infravak.nl
SUMMARY:Open dag Alfa College Groningen
DESCRIPTION:Heb jij interesse in de grond-\, weg- en waterbouw? En wil jij werken én leren tegelijk? Bezoek ons dan tijdens de Open Dag van Alfa College in Groningen. Tot dan!
URL:https://infravak.nl/agenda/open-dag-alfa-college-groningen-2/
LOCATION:Alfa College\, Protonstraat 2\, Groningen\, 9743 AL
END:VEVENT
BEGIN:VEVENT
DTSTART;TZID=UTC:20251029T190000
DTEND;TZID=UTC:20251029T210000
DTSTAMP:20260422T085342
CREATED:20240923T121309Z
LAST-MODIFIED:20251028T075747Z
UID:1012-1761764400-1761771600@infravak.nl
SUMMARY:Mbo-informatieavond Graafschap College
DESCRIPTION:Weet jij al welke vervolgstudie je gaat kiezen? Of ben je nog aan het oriënteren? Als jij lekker buiten in een team wil werken én leren tegelijk hebben we de perfecte opleidingen voor je.\nWe vertellen je graag alles over de verschillende mogelijkheden. Tot dan!
URL:https://infravak.nl/agenda/mbo-informatieavond-graafschap-college/
LOCATION:Graafschap College\, J.F. Kennedylaan 49\, Doetinchem\, 7001 EA
END:VEVENT
BEGIN:VEVENT
DTSTART;TZID=UTC:20251028T190000
DTEND;TZID=UTC:20251028T210000
DTSTAMP:20260422T085342
CREATED:20251028T083654Z
LAST-MODIFIED:20251028T083654Z
UID:1394-1761678000-1761685200@infravak.nl
SUMMARY:Mbo-informatieavond Graafschap College
DESCRIPTION:Weet jij al welke vervolgstudie je gaat kiezen? Of ben je nog aan het oriënteren? Als jij lekker buiten in een team wil werken én leren tegelijk hebben we de perfecte opleidingen voor je.\nWe vertellen je graag alles over de verschillende mogelijkheden. Tot dan!
URL:https://infravak.nl/agenda/mbo-informatieavond-graafschap-college-3/
LOCATION:Graafschap College\, J.F. Kennedylaan 49\, Doetinchem\, 7001 EA
END:VEVENT
BEGIN:VEVENT
DTSTART;TZID=UTC:20251014T180000
DTEND;TZID=UTC:20251014T210000
DTSTAMP:20260422T085342
CREATED:20240807T083719Z
LAST-MODIFIED:20250715T071307Z
UID:999-1760464800-1760475600@infravak.nl
SUMMARY:Check 't MBO event (Deventer/Zutphen)
DESCRIPTION:Woon je in (de omgeving van) Deventer of Zutphen? En wil je naar het mbo? Kom dan naar Check ’t MBO event! Wij zijn samen met alle andere mbo-instellingen uit de regio deze dag aanwezig en vertellen je graag alles over de infra en welke mogelijkheden er zijn. Tot dan!
URL:https://infravak.nl/agenda/check-t-mbo-event-deventer-zutphen/
LOCATION:Aventus\, Laan van de Mensenrechten 500\, Apeldoorn\, 7331 VZ\, Nederland
END:VEVENT
BEGIN:VEVENT
DTSTART;TZID=UTC:20251013T180000
DTEND;TZID=UTC:20251013T210000
DTSTAMP:20260422T085342
CREATED:20240807T083533Z
LAST-MODIFIED:20250715T071344Z
UID:996-1760378400-1760389200@infravak.nl
SUMMARY:Check 't MBO event (apeldoorn/twello)
DESCRIPTION:Woon je in (de omgeving van) Apeldoorn of Twello? En wil je naar het mbo? Kom dan naar Check ’t MBO event! Wij zijn samen met alle andere mbo-instellingen uit de regio deze dag aanwezig en vertellen je graag alles over de infra en welke mogelijkheden er zijn. Tot dan!
URL:https://infravak.nl/agenda/check-t-mbo-event-2/
LOCATION:Aventus\, Laan van de Mensenrechten 500\, Apeldoorn\, 7331 VZ\, Nederland
END:VEVENT
BEGIN:VEVENT
DTSTART;TZID=UTC:20251009T180000
DTEND;TZID=UTC:20251009T210000
DTSTAMP:20260422T085342
CREATED:20240807T091007Z
LAST-MODIFIED:20250925T100042Z
UID:1005-1760032800-1760043600@infravak.nl
SUMMARY:Voorlichtingsavond Zuidwest Drenthe (Hoogeveen)
DESCRIPTION:Zit je in het examenjaar en moet je een vervolgopleiding kiezen? We vertellen je graag alles over de bbl-opleidingen in de grond-\, weg- en waterbouw op de voorlichtingsavond in Hoogeveen.
URL:https://infravak.nl/agenda/voorlichtingsavond-zuidwest-drenthe-hoogeveen/
LOCATION:Roelof van Echtencollege\, Eduwiek\, Voltastraat 27\, 7903 AA\, Hoogeveen
END:VEVENT
BEGIN:VEVENT
DTSTART;TZID=UTC:20251008T190000
DTEND;TZID=UTC:20251008T213000
DTSTAMP:20260422T085342
CREATED:20241009T135237Z
LAST-MODIFIED:20250716T074040Z
UID:1024-1759950000-1759959000@infravak.nl
SUMMARY:Beroeps Opleidingen Markt in Firda Sneek
DESCRIPTION:Sta je voor een studiekeuze? En spreekt de grond-\, weg- en waterbouw jou wel aan? Leuk! Kom dan naar de opleidingenmarkt van Firda in Sneek. Wij vertellen je deze avond graag alles over de mogelijkheden binnen de infra. Zien we je daar?
URL:https://infravak.nl/agenda/opleidingenmarkt-rsg-sneek/
LOCATION:Firda\, Splitting 21\, Drachten\, 9202 LC
END:VEVENT
BEGIN:VEVENT
DTSTART;TZID=UTC:20251008T180000
DTEND;TZID=UTC:20251008T213000
DTSTAMP:20260422T085342
CREATED:20240807T085845Z
LAST-MODIFIED:20250715T085511Z
UID:1001-1759946400-1759959000@infravak.nl
SUMMARY:Scholenmarkt Arnhem
DESCRIPTION:Wil jij werken  aan jouw toekomst én aan die van Nederland? Dan is een bbl-opleiding in de grond-\, weg- en waterbouw wel wat voor jou.\nWij vertellen je graag alles over de verschillende opleidingen. Zien we jou daar?
URL:https://infravak.nl/agenda/scholenmarkt-arnhem-2/
LOCATION:Yuverta\, Larensteinselaan 26b\, Velp\, 6882 CT
END:VEVENT
BEGIN:VEVENT
DTSTART;TZID=UTC:20251008T180000
DTEND;TZID=UTC:20251008T210000
DTSTAMP:20260422T085342
CREATED:20241009T140945Z
LAST-MODIFIED:20250722T124748Z
UID:1032-1759946400-1759957200@infravak.nl
SUMMARY:Studiekeuzemarkt RSG Ter Apel
DESCRIPTION:Sta je voor een studiekeuze en lijkt het jou wel wat om lekker in de buitenlucht aan de slag te gaan? Dan is een bbl-opleiding in de infra wel wat voor jou.\nWe vertellen je deze avond graag alles over de diverse mogelijkheden. Tot dan!
URL:https://infravak.nl/agenda/studiekeuzemarkt-rsg-ter-apel-2/
LOCATION:RSG Ter Apel\, Oude Weg 41\, Ter Apel\, 9561 LB
END:VEVENT
BEGIN:VEVENT
DTSTART;TZID=UTC:20251007T180000
DTEND;TZID=UTC:20251007T210000
DTSTAMP:20260422T085342
CREATED:20240807T090737Z
LAST-MODIFIED:20250925T110018Z
UID:1003-1759860000-1759870800@infravak.nl
SUMMARY:Voorlichtingsavond Zuidwest Drenthe (Meppel)
DESCRIPTION:Zit je in het examenjaar en moet je een vervolgopleiding kiezen? We vertellen je graag alles over de bbl-opleidingen in de grond-\, weg- en waterbouw op de voorlichtingsavond in Meppel. \n 
URL:https://infravak.nl/agenda/voorlichtingsavond-zuidwest-drenthe-meppel/
LOCATION:Stad en Esch\, Ezingerweg 51 7943 AZ\, Meppel
END:VEVENT
BEGIN:VEVENT
DTSTART;TZID=UTC:20251004T090000
DTEND;TZID=UTC:20251004T160000
DTSTAMP:20260422T085342
CREATED:20250819T121412Z
LAST-MODIFIED:20250819T121412Z
UID:1374-1759568400-1759593600@infravak.nl
SUMMARY:Onderwijsbeurs Noordoost
DESCRIPTION:Sta je voor een studiekeuze en spreekt de grond-\, weg-\, en waterbouw jou aan? Leuk! Kom dan gezellig naar de onderwijsbeurs in Hardenberg! Wij vertellen jou graag alles over de infra én de diverse BBL-opleidingen. Zien wij je daar?
URL:https://infravak.nl/agenda/onderwijsbeurs-noordoost-7/
LOCATION:Evenementenhal Hardenberg\, Energieweg 2\, Hardenberg\, 7772 TV
END:VEVENT
BEGIN:VEVENT
DTSTART;TZID=UTC:20251003T100000
DTEND;TZID=UTC:20251003T170000
DTSTAMP:20260422T085342
CREATED:20250819T121319Z
LAST-MODIFIED:20250819T121319Z
UID:1372-1759485600-1759510800@infravak.nl
SUMMARY:Onderwijsbeurs Noordoost
DESCRIPTION:Sta je voor een studiekeuze en spreekt de grond-\, weg-\, en waterbouw jou aan? Leuk! Kom dan gezellig naar de onderwijsbeurs in Hardenberg! Wij vertellen jou graag alles over de infra én de diverse BBL-opleidingen. Zien wij je daar?
URL:https://infravak.nl/agenda/onderwijsbeurs-noordoost-6/
LOCATION:Evenementenhal Hardenberg\, Energieweg 2\, Hardenberg\, 7772 TV
END:VEVENT
BEGIN:VEVENT
DTSTART;TZID=UTC:20250924T183000
DTEND;TZID=UTC:20250924T210000
DTSTAMP:20260422T085342
CREATED:20250722T125720Z
LAST-MODIFIED:20250722T125720Z
UID:1364-1758738600-1758747600@infravak.nl
SUMMARY:Voorlichtingsavond Noordik Vriezenveen
DESCRIPTION:Zit je in het derde leerjaar van het VMBO en ga je je oriënteren op een vervolgopleiding? We vertellen je graag alles over de bbl-opleidingen in de grond-\, weg- en waterbouw op de voorlichtingsavond in Vriezenveen! \n 
URL:https://infravak.nl/agenda/voorlichtingsavond-noordik-vriezenveen/
LOCATION:Noordik in Vriezenveen\, Krijgerstraat 7\, Vriezenveen\, Netherlands
END:VEVENT
BEGIN:VEVENT
DTSTART;TZID=UTC:20250916T093000
DTEND;TZID=UTC:20250916T123000
DTSTAMP:20260422T085342
CREATED:20250819T114336Z
LAST-MODIFIED:20250819T114336Z
UID:1368-1758015000-1758025800@infravak.nl
SUMMARY:Excursie Stad en Esch Meppel
DESCRIPTION:Deze dag komt een groep leerlingen van Stad & Esch bij ons opleidingsbedrijf kennis maken met de verschillende onderdelen van de infra. Hopelijk wordt deze groep net zo enthousiast van het vak als wij. We kijken uit naar jullie komst.
URL:https://infravak.nl/agenda/excursie-stad-en-esch-meppel/
LOCATION:InfraVak\, Produktieweg 13\, 7451 PR Holten
END:VEVENT
BEGIN:VEVENT
DTSTART;TZID=UTC:20250905T083000
DTEND;TZID=UTC:20250905T120000
DTSTAMP:20260422T085342
CREATED:20250819T114836Z
LAST-MODIFIED:20250819T114836Z
UID:1370-1757061000-1757073600@infravak.nl
SUMMARY:Aftrap keuzevak Bouw- en woonrijp maken voor Zone.College Enschede
DESCRIPTION:Deze dag is de start van het keuzevak Bouw- en Woonrijp maken voor enthousiaste leerlingen van het Zone.College Enschede in onze praktijkhal. De komende weken gaan de leerlingen zich onderdompelen in de wereld van infra en hopelijk zijn ze daarna net zo enthousiast als wij.
URL:https://infravak.nl/agenda/aftrap-keuzevak-bouw-en-woonrijp-maken-voor-zone-college-enschede/
LOCATION:InfraVak\, Produktieweg 13\, 7451 PR Holten
END:VEVENT
BEGIN:VEVENT
DTSTART;TZID=UTC:20250704T153000
DTEND;TZID=UTC:20250704T190000
DTSTAMP:20260422T085342
CREATED:20250701T112149Z
LAST-MODIFIED:20250701T112149Z
UID:1346-1751643000-1751655600@infravak.nl
SUMMARY:Diploma-uitreiking ROC van Twente
DESCRIPTION:Vanmiddag is het feest bij InfraVak! De diploma’s worden uitgereikt aan de geslaagde leerlingen van het ROC van Twente. Een mooi moment om samen met vrienden en familie stil te staan bij hun harde werk en prestaties.
URL:https://infravak.nl/agenda/diploma-uitreiking-roc-van-twente/
LOCATION:InfraVak\, Produktieweg 13\, 7451 PR Holten
END:VEVENT
BEGIN:VEVENT
DTSTART;TZID=UTC:20250626T083000
DTEND;TZID=UTC:20250626T153000
DTSTAMP:20260422T085342
CREATED:20250521T133918Z
LAST-MODIFIED:20250521T152219Z
UID:1341-1750926600-1750951800@infravak.nl
SUMMARY:Excursie Sallandse Wegenbouw
DESCRIPTION:Sallandse Wegenbouw organiseert jaarlijks een excursie voor een basisschool uit Hengelo. De leerlingen van groep 7 gaan de hele dag op pad naar verschillende projecten van Sallandse Wegenbouw en leren zo wat er allemaal bij hoort. \nIn de middag mogen de leerlingen hun handen uit de mouwen steken tijdens een praktijkmiddag in onze praktijkhal. Straten\, rioolspelletjes en zelfs op een echte graafmachine staat op de planning!
URL:https://infravak.nl/agenda/excursie-sallandse-wegenbouw/
LOCATION:InfraVak\, Produktieweg 13\, 7451 PR Holten
END:VEVENT
END:VCALENDAR